Package: MatrixGenerics Version: 1.16.0 Command: /home/biocbuild/bbs-3.19-bioc/R/bin/R CMD INSTALL MatrixGenerics StartedAt: 2024-10-16 15:51:19 -0400 (Wed, 16 Oct 2024) EndedAt: 2024-10-16 15:51:23 -0400 (Wed, 16 Oct 2024) EllapsedTime: 4.4 seconds RetCode: 0 Status: OK