Package: MatrixGenerics Version: 1.16.0 Command: /Library/Frameworks/R.framework/Resources/bin/R CMD INSTALL MatrixGenerics StartedAt: 2024-10-16 15:09:19 -0400 (Wed, 16 Oct 2024) EndedAt: 2024-10-16 15:09:48 -0400 (Wed, 16 Oct 2024) EllapsedTime: 29.1 seconds RetCode: 0 Status: OK