Package: MatrixGenerics Version: 1.16.0 Command: rm -rf MatrixGenerics.buildbin-libdir && mkdir MatrixGenerics.buildbin-libdir && /Users/biocbuild/BBS/utils/build-universal.sh MatrixGenerics_1.16.0.tar.gz /Library/Frameworks/R.framework/Resources/bin/R MatrixGenerics.buildbin-libdir StartedAt: 2024-10-17 16:30:52 -0400 (Thu, 17 Oct 2024) EndedAt: 2024-10-17 16:31:05 -0400 (Thu, 17 Oct 2024) EllapsedTime: 13.0 seconds RetCode: 0 Status: OK PackageFile: MatrixGenerics_1.16.0.tgz PackageFileSize: 413.6 KiB