Package: MatrixGenerics Version: 1.16.0 Command: /Library/Frameworks/R.framework/Resources/bin/R CMD INSTALL MatrixGenerics StartedAt: 2024-06-09 15:06:50 -0400 (Sun, 09 Jun 2024) EndedAt: 2024-06-09 15:07:01 -0400 (Sun, 09 Jun 2024) EllapsedTime: 11.1 seconds RetCode: 0 Status: OK