Package: MatrixGenerics Version: 1.16.0 Command: /Library/Frameworks/R.framework/Resources/bin/R CMD check --install=check:MatrixGenerics.install-out.txt --library=/Library/Frameworks/R.framework/Resources/library --no-vignettes --timings MatrixGenerics_1.16.0.tar.gz StartedAt: 2024-06-10 20:41:24 -0400 (Mon, 10 Jun 2024) EndedAt: 2024-06-10 20:42:30 -0400 (Mon, 10 Jun 2024) EllapsedTime: 65.2 seconds RetCode: 0 Status: OK CheckDir: MatrixGenerics.Rcheck Warnings: 0