Package: MassSpecWavelet Version: 1.70.0 Command: /home/biocbuild/bbs-3.19-bioc/R/bin/R CMD check --install=check:MassSpecWavelet.install-out.txt --library=/home/biocbuild/bbs-3.19-bioc/R/site-library --timings MassSpecWavelet_1.70.0.tar.gz StartedAt: 2024-10-17 02:02:59 -0400 (Thu, 17 Oct 2024) EndedAt: 2024-10-17 02:04:07 -0400 (Thu, 17 Oct 2024) EllapsedTime: 68.2 seconds RetCode: 0 Status: OK CheckDir: MassSpecWavelet.Rcheck Warnings: 0