Package: MassSpecWavelet Version: 1.70.0 Command: /Library/Frameworks/R.framework/Resources/bin/R CMD INSTALL MassSpecWavelet StartedAt: 2024-10-16 15:05:42 -0400 (Wed, 16 Oct 2024) EndedAt: 2024-10-16 15:05:50 -0400 (Wed, 16 Oct 2024) EllapsedTime: 7.5 seconds RetCode: 0 Status: OK