Package: MassSpecWavelet Version: 1.70.0 Command: /Library/Frameworks/R.framework/Resources/bin/R CMD check --install=check:MassSpecWavelet.install-out.txt --library=/Library/Frameworks/R.framework/Resources/library --no-vignettes --timings MassSpecWavelet_1.70.0.tar.gz StartedAt: 2024-10-18 02:42:46 -0400 (Fri, 18 Oct 2024) EndedAt: 2024-10-18 02:43:31 -0400 (Fri, 18 Oct 2024) EllapsedTime: 44.5 seconds RetCode: 0 Status: OK CheckDir: MassSpecWavelet.Rcheck Warnings: 0