Package: MassSpecWavelet Version: 1.70.0 Command: rm -rf MassSpecWavelet.buildbin-libdir && mkdir MassSpecWavelet.buildbin-libdir && /Users/biocbuild/BBS/utils/build-universal.sh MassSpecWavelet_1.70.0.tar.gz /Library/Frameworks/R.framework/Resources/bin/R MassSpecWavelet.buildbin-libdir StartedAt: 2024-10-18 19:14:58 -0400 (Fri, 18 Oct 2024) EndedAt: 2024-10-18 19:15:05 -0400 (Fri, 18 Oct 2024) EllapsedTime: 7.8 seconds RetCode: 0 Status: OK PackageFile: MassSpecWavelet_1.70.0.tgz PackageFileSize: 2.168 MiB