Package: MantelCorr Version: 1.74.0 Command: rm -rf MantelCorr.buildbin-libdir && mkdir MantelCorr.buildbin-libdir && E:\biocbuild\bbs-3.19-bioc\R\bin\R.exe CMD INSTALL --build --library=MantelCorr.buildbin-libdir MantelCorr_1.74.0.tar.gz StartedAt: 2024-10-17 08:04:22 -0400 (Thu, 17 Oct 2024) EndedAt: 2024-10-17 08:04:32 -0400 (Thu, 17 Oct 2024) EllapsedTime: 10.8 seconds RetCode: 0 Status: OK PackageFile: MantelCorr_1.74.0.zip PackageFileSize: 586.6 KiB