Package: MantelCorr Version: 1.74.0 Command: /home/biocbuild/bbs-3.19-bioc/R/bin/R CMD build --keep-empty-dirs --no-resave-data MantelCorr StartedAt: 2024-10-16 19:15:29 -0400 (Wed, 16 Oct 2024) EndedAt: 2024-10-16 19:15:38 -0400 (Wed, 16 Oct 2024) EllapsedTime: 9.0 seconds RetCode: 0 Status: OK PackageFile: MantelCorr_1.74.0.tar.gz PackageFileSize: 769.8 KiB