Package: MantelCorr Version: 1.74.0 Command: /Library/Frameworks/R.framework/Resources/bin/R CMD check --install=check:MantelCorr.install-out.txt --library=/Library/Frameworks/R.framework/Resources/library --no-vignettes --timings MantelCorr_1.74.0.tar.gz StartedAt: 2024-06-09 21:16:46 -0400 (Sun, 09 Jun 2024) EndedAt: 2024-06-09 21:17:14 -0400 (Sun, 09 Jun 2024) EllapsedTime: 28.2 seconds RetCode: 0 Status: OK CheckDir: MantelCorr.Rcheck Warnings: 0