Package: MantelCorr Version: 1.74.0 Command: /home/biocbuild/R/R-beta-2024-04-15_r86425/bin/R CMD build --keep-empty-dirs --no-resave-data MantelCorr StartedAt: 2024-05-09 01:20:30 -0000 (Thu, 09 May 2024) EndedAt: 2024-05-09 01:20:54 -0000 (Thu, 09 May 2024) EllapsedTime: 24.0 seconds RetCode: 0 Status: OK PackageFile: MantelCorr_1.74.0.tar.gz PackageFileSize: 927.7 KiB