Package: MantelCorr Version: 1.74.0 Command: /Library/Frameworks/R.framework/Resources/bin/R CMD INSTALL MantelCorr StartedAt: 2024-06-09 15:05:21 -0400 (Sun, 09 Jun 2024) EndedAt: 2024-06-09 15:05:31 -0400 (Sun, 09 Jun 2024) EllapsedTime: 10.4 seconds RetCode: 0 Status: OK