Package: MantelCorr Version: 1.74.0 Command: /Library/Frameworks/R.framework/Resources/bin/R CMD check --install=check:MantelCorr.install-out.txt --library=/Library/Frameworks/R.framework/Resources/library --no-vignettes --timings MantelCorr_1.74.0.tar.gz StartedAt: 2024-06-10 20:31:02 -0400 (Mon, 10 Jun 2024) EndedAt: 2024-06-10 20:31:45 -0400 (Mon, 10 Jun 2024) EllapsedTime: 42.7 seconds RetCode: 0 Status: OK CheckDir: MantelCorr.Rcheck Warnings: 0