Package: MantelCorr Version: 1.74.0 Maintainer: Brian Steinmeyer MaintainerEmail: steinmeb at ilya.wustl.edu git_url: https://git.bioconductor.org/packages/MantelCorr git_branch: RELEASE_3_19 git_last_commit: 155ca76 git_last_commit_date: 2024-04-30 10:14:46 -0400 (Tue, 30 Apr 2024)