Package: Macarron Version: 1.8.1 Command: chmod a+r Macarron -R && E:\biocbuild\bbs-3.19-bioc\R\bin\R.exe CMD build --keep-empty-dirs --no-resave-data Macarron StartedAt: 2024-10-16 20:02:02 -0400 (Wed, 16 Oct 2024) EndedAt: 2024-10-16 20:07:25 -0400 (Wed, 16 Oct 2024) EllapsedTime: 323.0 seconds RetCode: 0 Status: OK PackageFile: Macarron_1.8.1.tar.gz PackageFileSize: 591.5 KiB