Package: Macarron Version: 1.8.1 Command: rm -rf Macarron.buildbin-libdir && mkdir Macarron.buildbin-libdir && E:\biocbuild\bbs-3.19-bioc\R\bin\R.exe CMD INSTALL --build --library=Macarron.buildbin-libdir Macarron_1.8.1.tar.gz StartedAt: 2024-10-17 08:03:42 -0400 (Thu, 17 Oct 2024) EndedAt: 2024-10-17 08:04:15 -0400 (Thu, 17 Oct 2024) EllapsedTime: 32.4 seconds RetCode: 0 Status: OK PackageFile: Macarron_1.8.1.zip PackageFileSize: 654.5 KiB