Package: Macarron Version: 1.8.1 Command: F:\biocbuild\bbs-3.19-bioc\R\bin\R.exe CMD INSTALL Macarron StartedAt: 2024-06-26 16:38:16 -0400 (Wed, 26 Jun 2024) EndedAt: 2024-06-26 16:38:44 -0400 (Wed, 26 Jun 2024) EllapsedTime: 28.3 seconds RetCode: 0 Status: OK