Package: Macarron Version: 1.8.1 Command: /home/biocbuild/bbs-3.19-bioc/R/bin/R CMD build --keep-empty-dirs --no-resave-data Macarron StartedAt: 2024-10-16 19:14:04 -0400 (Wed, 16 Oct 2024) EndedAt: 2024-10-16 19:18:14 -0400 (Wed, 16 Oct 2024) EllapsedTime: 250.5 seconds RetCode: 0 Status: OK PackageFile: Macarron_1.8.1.tar.gz PackageFileSize: 591.3 KiB