Package: Macarron Version: 1.8.0 Command: /home/biocbuild/R/R-beta-2024-04-15_r86425/bin/R CMD build --keep-empty-dirs --no-resave-data Macarron StartedAt: 2024-05-09 01:18:50 -0000 (Thu, 09 May 2024) EndedAt: 2024-05-09 01:19:51 -0000 (Thu, 09 May 2024) EllapsedTime: 61.1 seconds RetCode: 0 Status: OK PackageFile: Macarron_1.8.0.tar.gz PackageFileSize: 646.7 KiB