Package: Macarron Version: 1.8.1 Command: /Library/Frameworks/R.framework/Resources/bin/R CMD check --install=check:Macarron.install-out.txt --library=/Library/Frameworks/R.framework/Resources/library --no-vignettes --timings Macarron_1.8.1.tar.gz StartedAt: 2024-10-18 02:20:11 -0400 (Fri, 18 Oct 2024) EndedAt: 2024-10-18 02:43:50 -0400 (Fri, 18 Oct 2024) EllapsedTime: 1418.7 seconds RetCode: 1 Status: ERROR CheckDir: Macarron.Rcheck Warnings: NA