Package: Macarron Version: 1.8.1 Maintainer: Sagun Maharjan MaintainerEmail: sagunmaharjann at gmail.com git_url: https://git.bioconductor.org/packages/Macarron git_branch: RELEASE_3_19 git_last_commit: ee1247d git_last_commit_date: 2024-06-25 12:18:47 -0400 (Tue, 25 Jun 2024)