Package: Maaslin2 Version: 1.18.0 Command: E:\biocbuild\bbs-3.19-bioc\R\bin\R.exe CMD INSTALL Maaslin2 StartedAt: 2024-10-16 16:58:58 -0400 (Wed, 16 Oct 2024) EndedAt: 2024-10-16 16:59:13 -0400 (Wed, 16 Oct 2024) EllapsedTime: 15.4 seconds RetCode: 0 Status: OK