Package: Maaslin2 Version: 1.18.0 Command: chmod a+r Maaslin2 -R && E:\biocbuild\bbs-3.19-bioc\R\bin\R.exe CMD build --keep-empty-dirs --no-resave-data Maaslin2 StartedAt: 2024-10-16 20:01:59 -0400 (Wed, 16 Oct 2024) EndedAt: 2024-10-16 20:04:10 -0400 (Wed, 16 Oct 2024) EllapsedTime: 131.2 seconds RetCode: 0 Status: OK PackageFile: Maaslin2_1.18.0.tar.gz PackageFileSize: 544.2 KiB