Package: Maaslin2 Version: 1.18.0 Command: rm -rf Maaslin2.buildbin-libdir && mkdir Maaslin2.buildbin-libdir && E:\biocbuild\bbs-3.19-bioc\R\bin\R.exe CMD INSTALL --build --library=Maaslin2.buildbin-libdir Maaslin2_1.18.0.tar.gz StartedAt: 2024-10-17 08:03:41 -0400 (Thu, 17 Oct 2024) EndedAt: 2024-10-17 08:04:04 -0400 (Thu, 17 Oct 2024) EllapsedTime: 23.2 seconds RetCode: 0 Status: OK PackageFile: Maaslin2_1.18.0.zip PackageFileSize: 607.5 KiB