Package: Maaslin2 Version: 1.18.0 Command: /Library/Frameworks/R.framework/Resources/bin/R CMD build --keep-empty-dirs --no-resave-data Maaslin2 StartedAt: 2024-06-09 17:07:25 -0400 (Sun, 09 Jun 2024) EndedAt: 2024-06-09 17:09:14 -0400 (Sun, 09 Jun 2024) EllapsedTime: 109.0 seconds RetCode: 0 Status: OK PackageFile: Maaslin2_1.18.0.tar.gz PackageFileSize: 544.1 KiB