Package: Maaslin2 Version: 1.18.0 Command: /home/biocbuild/R/R-beta-2024-04-15_r86425/bin/R CMD build --keep-empty-dirs --no-resave-data Maaslin2 StartedAt: 2024-05-09 01:18:46 -0000 (Thu, 09 May 2024) EndedAt: 2024-05-09 01:21:13 -0000 (Thu, 09 May 2024) EllapsedTime: 147.2 seconds RetCode: 0 Status: OK PackageFile: Maaslin2_1.18.0.tar.gz PackageFileSize: 569.1 KiB