Package: MWASTools Version: 1.28.0 Command: /Library/Frameworks/R.framework/Resources/bin/R CMD build --keep-empty-dirs --no-resave-data MWASTools StartedAt: 2024-10-16 21:30:22 -0400 (Wed, 16 Oct 2024) EndedAt: 2024-10-16 21:32:56 -0400 (Wed, 16 Oct 2024) EllapsedTime: 154.2 seconds RetCode: 0 Status: OK PackageFile: MWASTools_1.28.0.tar.gz PackageFileSize: 2.106 MiB