Package: MWASTools Version: 1.28.0 Command: rm -rf MWASTools.buildbin-libdir && mkdir MWASTools.buildbin-libdir && /Users/biocbuild/BBS/utils/build-universal.sh MWASTools_1.28.0.tar.gz /Library/Frameworks/R.framework/Resources/bin/R MWASTools.buildbin-libdir StartedAt: 2024-10-17 16:42:44 -0400 (Thu, 17 Oct 2024) EndedAt: 2024-10-17 16:44:01 -0400 (Thu, 17 Oct 2024) EllapsedTime: 77.9 seconds RetCode: 0 Status: OK PackageFile: MWASTools_1.28.0.tgz PackageFileSize: 2.114 MiB