Package: MWASTools Version: 1.28.0 Command: /home/biocbuild/R/R-beta-2024-04-15_r86425/bin/R CMD build --keep-empty-dirs --no-resave-data MWASTools StartedAt: 2024-05-09 02:02:55 -0000 (Thu, 09 May 2024) EndedAt: 2024-05-09 02:04:13 -0000 (Thu, 09 May 2024) EllapsedTime: 78.1 seconds RetCode: 0 Status: OK PackageFile: MWASTools_1.28.0.tar.gz PackageFileSize: 1.701 MiB