Package: MVCClass Version: 1.78.0 Command: chmod a+r MVCClass -R && E:\biocbuild\bbs-3.19-bioc\R\bin\R.exe CMD build --keep-empty-dirs --no-resave-data MVCClass StartedAt: 2024-10-16 20:38:08 -0400 (Wed, 16 Oct 2024) EndedAt: 2024-10-16 20:38:36 -0400 (Wed, 16 Oct 2024) EllapsedTime: 27.1 seconds RetCode: 0 Status: OK PackageFile: MVCClass_1.78.0.tar.gz PackageFileSize: 1.032 MiB