Package: MVCClass Version: 1.78.0 Command: /home/biocbuild/R/R-beta-2024-04-15_r86425/bin/R CMD build --keep-empty-dirs --no-resave-data MVCClass StartedAt: 2024-05-09 02:02:54 -0000 (Thu, 09 May 2024) EndedAt: 2024-05-09 02:03:01 -0000 (Thu, 09 May 2024) EllapsedTime: 7.0 seconds RetCode: 0 Status: OK PackageFile: MVCClass_1.78.0.tar.gz PackageFileSize: 1.028 MiB