Package: MSstatsTMT Version: 2.12.1 Command: E:\biocbuild\bbs-3.19-bioc\R\bin\R.exe CMD check --no-multiarch --install=check:MSstatsTMT.install-out.txt --library=E:\biocbuild\bbs-3.19-bioc\R\library --no-vignettes --timings MSstatsTMT_2.12.1.tar.gz StartedAt: 2024-10-17 03:46:02 -0400 (Thu, 17 Oct 2024) EndedAt: 2024-10-17 03:48:49 -0400 (Thu, 17 Oct 2024) EllapsedTime: 167.4 seconds RetCode: 0 Status: OK CheckDir: MSstatsTMT.Rcheck Warnings: 0