Package: MSstatsTMT Version: 2.12.1 Command: chmod a+r MSstatsTMT -R && E:\biocbuild\bbs-3.19-bioc\R\bin\R.exe CMD build --keep-empty-dirs --no-resave-data MSstatsTMT StartedAt: 2024-10-16 20:34:58 -0400 (Wed, 16 Oct 2024) EndedAt: 2024-10-16 20:36:20 -0400 (Wed, 16 Oct 2024) EllapsedTime: 82.6 seconds RetCode: 0 Status: OK PackageFile: MSstatsTMT_2.12.1.tar.gz PackageFileSize: 1.531 MiB