Package: MSstatsTMT Version: 2.12.1 Command: rm -rf MSstatsTMT.buildbin-libdir && mkdir MSstatsTMT.buildbin-libdir && E:\biocbuild\bbs-3.19-bioc\R\bin\R.exe CMD INSTALL --build --library=MSstatsTMT.buildbin-libdir MSstatsTMT_2.12.1.tar.gz StartedAt: 2024-10-17 08:13:10 -0400 (Thu, 17 Oct 2024) EndedAt: 2024-10-17 08:13:50 -0400 (Thu, 17 Oct 2024) EllapsedTime: 40.1 seconds RetCode: 0 Status: OK PackageFile: MSstatsTMT_2.12.1.zip PackageFileSize: 1.911 MiB