Package: MSstatsTMT Version: 2.12.1 Command: /home/biocbuild/bbs-3.19-bioc/R/bin/R CMD check --install=check:MSstatsTMT.install-out.txt --library=/home/biocbuild/bbs-3.19-bioc/R/site-library --timings MSstatsTMT_2.12.1.tar.gz StartedAt: 2024-10-17 02:52:35 -0400 (Thu, 17 Oct 2024) EndedAt: 2024-10-17 02:55:25 -0400 (Thu, 17 Oct 2024) EllapsedTime: 170.2 seconds RetCode: 0 Status: OK CheckDir: MSstatsTMT.Rcheck Warnings: 0