Package: MSstatsTMT Version: 2.12.1 Command: rm -rf MSstatsTMT.buildbin-libdir && mkdir MSstatsTMT.buildbin-libdir && /Users/biocbuild/BBS/utils/build-universal.sh MSstatsTMT_2.12.1.tar.gz /Library/Frameworks/R.framework/Resources/bin/R MSstatsTMT.buildbin-libdir StartedAt: 2024-06-10 00:28:52 -0400 (Mon, 10 Jun 2024) EndedAt: 2024-06-10 00:29:13 -0400 (Mon, 10 Jun 2024) EllapsedTime: 20.2 seconds RetCode: 0 Status: OK PackageFile: MSstatsTMT_2.12.1.tgz PackageFileSize: 1.947 MiB