Package: MSstatsShiny Version: 1.6.2 Command: F:\biocbuild\bbs-3.19-bioc\R\bin\R.exe CMD INSTALL MSstatsShiny StartedAt: 2024-06-26 16:39:53 -0400 (Wed, 26 Jun 2024) EndedAt: 2024-06-26 16:40:30 -0400 (Wed, 26 Jun 2024) EllapsedTime: 37.7 seconds RetCode: 0 Status: OK