Package: MSstatsShiny Version: 1.6.2 Command: rm -rf MSstatsShiny.buildbin-libdir && mkdir MSstatsShiny.buildbin-libdir && F:\biocbuild\bbs-3.19-bioc\R\bin\R.exe CMD INSTALL --build --library=MSstatsShiny.buildbin-libdir MSstatsShiny_1.6.2.tar.gz StartedAt: 2024-06-27 08:33:52 -0400 (Thu, 27 Jun 2024) EndedAt: 2024-06-27 08:34:29 -0400 (Thu, 27 Jun 2024) EllapsedTime: 37.5 seconds RetCode: 0 Status: OK PackageFile: MSstatsShiny_1.6.2.zip PackageFileSize: 2.295 MiB