Package: MSstatsShiny Version: 1.6.2 Command: /home/biocbuild/bbs-3.19-bioc/R/bin/R CMD INSTALL MSstatsShiny StartedAt: 2024-10-16 16:35:16 -0400 (Wed, 16 Oct 2024) EndedAt: 2024-10-16 16:35:42 -0400 (Wed, 16 Oct 2024) EllapsedTime: 25.5 seconds RetCode: 0 Status: OK