Package: MSstatsShiny Version: 1.6.2 Command: /home/biocbuild/bbs-3.19-bioc/R/bin/R CMD build --keep-empty-dirs --no-resave-data MSstatsShiny StartedAt: 2024-10-16 19:42:07 -0400 (Wed, 16 Oct 2024) EndedAt: 2024-10-16 19:42:43 -0400 (Wed, 16 Oct 2024) EllapsedTime: 36.1 seconds RetCode: 0 Status: OK PackageFile: MSstatsShiny_1.6.2.tar.gz PackageFileSize: 2.16 MiB