Package: MSstatsShiny Version: 1.6.2 Command: /Library/Frameworks/R.framework/Resources/bin/R CMD check --install=check:MSstatsShiny.install-out.txt --library=/Library/Frameworks/R.framework/Resources/library --no-vignettes --timings MSstatsShiny_1.6.2.tar.gz StartedAt: 2024-10-17 09:41:23 -0400 (Thu, 17 Oct 2024) EndedAt: 2024-10-17 09:51:39 -0400 (Thu, 17 Oct 2024) EllapsedTime: 616.0 seconds RetCode: 0 Status: WARNINGS CheckDir: MSstatsShiny.Rcheck Warnings: 1