Package: MSstatsShiny Version: 1.6.2 Command: /Library/Frameworks/R.framework/Resources/bin/R CMD build --keep-empty-dirs --no-resave-data MSstatsShiny StartedAt: 2024-10-16 21:24:52 -0400 (Wed, 16 Oct 2024) EndedAt: 2024-10-16 21:27:02 -0400 (Wed, 16 Oct 2024) EllapsedTime: 130.1 seconds RetCode: 0 Status: OK PackageFile: MSstatsShiny_1.6.2.tar.gz PackageFileSize: 2.16 MiB