Package: MSstatsShiny Version: 1.6.2 Command: /Library/Frameworks/R.framework/Resources/bin/R CMD check --install=check:MSstatsShiny.install-out.txt --library=/Library/Frameworks/R.framework/Resources/library --no-vignettes --timings MSstatsShiny_1.6.2.tar.gz StartedAt: 2024-10-18 05:23:23 -0400 (Fri, 18 Oct 2024) EndedAt: 2024-10-18 05:27:34 -0400 (Fri, 18 Oct 2024) EllapsedTime: 251.4 seconds RetCode: 0 Status: WARNINGS CheckDir: MSstatsShiny.Rcheck Warnings: 1