Package: MSstatsShiny Version: 1.6.2 Command: /Library/Frameworks/R.framework/Resources/bin/R CMD build --keep-empty-dirs --no-resave-data MSstatsShiny StartedAt: 2024-10-17 05:17:26 -0400 (Thu, 17 Oct 2024) EndedAt: 2024-10-17 05:18:15 -0400 (Thu, 17 Oct 2024) EllapsedTime: 48.6 seconds RetCode: 0 Status: OK PackageFile: MSstatsShiny_1.6.2.tar.gz PackageFileSize: 2.16 MiB