Package: MSstatsQCgui Version: 1.24.0 Command: E:\biocbuild\bbs-3.19-bioc\R\bin\R.exe CMD INSTALL MSstatsQCgui StartedAt: 2024-10-16 16:54:25 -0400 (Wed, 16 Oct 2024) EndedAt: 2024-10-16 16:55:07 -0400 (Wed, 16 Oct 2024) EllapsedTime: 41.9 seconds RetCode: 0 Status: OK