Package: MSstatsQCgui Version: 1.24.0 Command: chmod a+r MSstatsQCgui -R && E:\biocbuild\bbs-3.19-bioc\R\bin\R.exe CMD build --keep-empty-dirs --no-resave-data MSstatsQCgui StartedAt: 2024-10-16 20:34:19 -0400 (Wed, 16 Oct 2024) EndedAt: 2024-10-16 20:35:03 -0400 (Wed, 16 Oct 2024) EllapsedTime: 43.4 seconds RetCode: 0 Status: OK PackageFile: MSstatsQCgui_1.24.0.tar.gz PackageFileSize: 75.4 KiB