Package: MSstatsQCgui Version: 1.24.0 Command: /Library/Frameworks/R.framework/Resources/bin/R CMD build --keep-empty-dirs --no-resave-data MSstatsQCgui StartedAt: 2024-06-09 17:27:01 -0400 (Sun, 09 Jun 2024) EndedAt: 2024-06-09 17:27:55 -0400 (Sun, 09 Jun 2024) EllapsedTime: 54.2 seconds RetCode: 0 Status: OK PackageFile: MSstatsQCgui_1.24.0.tar.gz PackageFileSize: 75.36 KiB