Package: MSstatsQCgui Version: 1.24.0 Command: /Library/Frameworks/R.framework/Resources/bin/R CMD check --install=check:MSstatsQCgui.install-out.txt --library=/Library/Frameworks/R.framework/Resources/library --no-vignettes --timings MSstatsQCgui_1.24.0.tar.gz StartedAt: 2024-06-10 23:15:07 -0400 (Mon, 10 Jun 2024) EndedAt: 2024-06-10 23:21:02 -0400 (Mon, 10 Jun 2024) EllapsedTime: 354.9 seconds RetCode: 0 Status: OK CheckDir: MSstatsQCgui.Rcheck Warnings: 0